BEGIN:VCALENDAR
VERSION:2.0
PRODID:-//LOHAS - ECPv6.15.18//NONSGML v1.0//EN
CALSCALE:GREGORIAN
METHOD:PUBLISH
X-WR-CALNAME:LOHAS
X-ORIGINAL-URL:https://lohas.org
X-WR-CALDESC:Events for LOHAS
REFRESH-INTERVAL;VALUE=DURATION:PT1H
X-Robots-Tag:noindex
X-PUBLISHED-TTL:PT1H
BEGIN:VTIMEZONE
TZID:America/Chicago
BEGIN:DAYLIGHT
TZOFFSETFROM:-0600
TZOFFSETTO:-0500
TZNAME:CDT
DTSTART:20250309T080000
END:DAYLIGHT
BEGIN:STANDARD
TZOFFSETFROM:-0500
TZOFFSETTO:-0600
TZNAME:CST
DTSTART:20251102T070000
END:STANDARD
BEGIN:DAYLIGHT
TZOFFSETFROM:-0600
TZOFFSETTO:-0500
TZNAME:CDT
DTSTART:20260308T080000
END:DAYLIGHT
BEGIN:STANDARD
TZOFFSETFROM:-0500
TZOFFSETTO:-0600
TZNAME:CST
DTSTART:20261101T070000
END:STANDARD
BEGIN:DAYLIGHT
TZOFFSETFROM:-0600
TZOFFSETTO:-0500
TZNAME:CDT
DTSTART:20270314T080000
END:DAYLIGHT
BEGIN:STANDARD
TZOFFSETFROM:-0500
TZOFFSETTO:-0600
TZNAME:CST
DTSTART:20271107T070000
END:STANDARD
END:VTIMEZONE
BEGIN:VEVENT
DTSTART;VALUE=DATE:20260420
DTEND;VALUE=DATE:20260423
DTSTAMP:20260423T034453
CREATED:20260212T005955Z
LAST-MODIFIED:20260212T010530Z
UID:253652-1776643200-1776902399@lohas.org
SUMMARY:EarthX 2026
DESCRIPTION:EarthX is an international nonprofit environmental organization dedicated to educating and inspiring people and organizations to take action towards a more sustainable future worldwide. \nEarthx2026\, their marquee event\, brings together leading voices from across the environmental spectrum—including scientists\, conservationists\, academics\, entrepreneurs\, advocates\, NGOs\, farmers\, corporations\, policymakers\, educators\, students\, and global leaders—to exchange ideas and drive solutions for a sustainable future.
URL:https://lohas.org/event/earthx-2026/
LOCATION:Dallas\, TX\, Dallas\, TX
CATEGORIES:Industry Events
ATTACH;FMTTYPE=image/jpeg:https://lohas.org/wp-content/uploads/2026/02/EarthX-2026.jpg
END:VEVENT
END:VCALENDAR