BEGIN:VCALENDAR
VERSION:2.0
PRODID:-//LOHAS - ECPv6.15.18//NONSGML v1.0//EN
CALSCALE:GREGORIAN
METHOD:PUBLISH
X-WR-CALNAME:LOHAS
X-ORIGINAL-URL:https://lohas.org
X-WR-CALDESC:Events for LOHAS
REFRESH-INTERVAL;VALUE=DURATION:PT1H
X-Robots-Tag:noindex
X-PUBLISHED-TTL:PT1H
BEGIN:VTIMEZONE
TZID:America/Chicago
BEGIN:DAYLIGHT
TZOFFSETFROM:-0600
TZOFFSETTO:-0500
TZNAME:CDT
DTSTART:20230312T080000
END:DAYLIGHT
BEGIN:STANDARD
TZOFFSETFROM:-0500
TZOFFSETTO:-0600
TZNAME:CST
DTSTART:20231105T070000
END:STANDARD
BEGIN:DAYLIGHT
TZOFFSETFROM:-0600
TZOFFSETTO:-0500
TZNAME:CDT
DTSTART:20240310T080000
END:DAYLIGHT
BEGIN:STANDARD
TZOFFSETFROM:-0500
TZOFFSETTO:-0600
TZNAME:CST
DTSTART:20241103T070000
END:STANDARD
BEGIN:DAYLIGHT
TZOFFSETFROM:-0600
TZOFFSETTO:-0500
TZNAME:CDT
DTSTART:20250309T080000
END:DAYLIGHT
BEGIN:STANDARD
TZOFFSETFROM:-0500
TZOFFSETTO:-0600
TZNAME:CST
DTSTART:20251102T070000
END:STANDARD
END:VTIMEZONE
BEGIN:VEVENT
DTSTART;VALUE=DATE:20241008
DTEND;VALUE=DATE:20241010
DTSTAMP:20260423T033343
CREATED:20240904T053311Z
LAST-MODIFIED:20241003T181738Z
UID:250738-1728345600-1728518399@lohas.org
SUMMARY:LATAM Investment Convergence Summit 2024
DESCRIPTION:Opal Group is happy to announce its newest event\, the LATAM Investment Convergence Summit. \nCome and join us for engaging discussions and fruitful networking between Latin American and U.S.-based Family Offices and GPs from across America. \nAudiences will consist of High-Net-Worth Individuals and executives in Corporate Pension Funds\, Endowments\, Public Funds\, Foundations\, Investment Consultancies\, Investment Banks\, Law Firms\, and Accounting Firms\, among other organizations. \nThe Summit will be a day-and-a-half event of insightful panels\, keynotes\, and interviews on trending topics from Private Equity\, Venture Capital\, Alternative Investing\, Philanthropy\, Real Estate\, AI\, and much more. \nThis is the perfect opportunity to learn everything about the prosperous LATAM market and network with an exclusive and diverse audience. \nJoin us in collaborating and influencing the future investment landscape between these influential regions.
URL:https://lohas.org/event/latam-investment-convergence-summit-2024/
LOCATION:Miami\, FL\, Miami\, FL
CATEGORIES:Industry Events
ATTACH;FMTTYPE=image/webp:https://lohas.org/wp-content/uploads/2024/09/LATAM-Investment-Convergence-Summit-2024.webp
END:VEVENT
END:VCALENDAR