BEGIN:VCALENDAR
VERSION:2.0
PRODID:-//LOHAS - ECPv6.15.18//NONSGML v1.0//EN
CALSCALE:GREGORIAN
METHOD:PUBLISH
X-WR-CALNAME:LOHAS
X-ORIGINAL-URL:https://lohas.org
X-WR-CALDESC:Events for LOHAS
REFRESH-INTERVAL;VALUE=DURATION:PT1H
X-Robots-Tag:noindex
X-PUBLISHED-TTL:PT1H
BEGIN:VTIMEZONE
TZID:America/Chicago
BEGIN:DAYLIGHT
TZOFFSETFROM:-0600
TZOFFSETTO:-0500
TZNAME:CDT
DTSTART:20230312T080000
END:DAYLIGHT
BEGIN:STANDARD
TZOFFSETFROM:-0500
TZOFFSETTO:-0600
TZNAME:CST
DTSTART:20231105T070000
END:STANDARD
BEGIN:DAYLIGHT
TZOFFSETFROM:-0600
TZOFFSETTO:-0500
TZNAME:CDT
DTSTART:20240310T080000
END:DAYLIGHT
BEGIN:STANDARD
TZOFFSETFROM:-0500
TZOFFSETTO:-0600
TZNAME:CST
DTSTART:20241103T070000
END:STANDARD
BEGIN:DAYLIGHT
TZOFFSETFROM:-0600
TZOFFSETTO:-0500
TZNAME:CDT
DTSTART:20250309T080000
END:DAYLIGHT
BEGIN:STANDARD
TZOFFSETFROM:-0500
TZOFFSETTO:-0600
TZNAME:CST
DTSTART:20251102T070000
END:STANDARD
END:VTIMEZONE
BEGIN:VEVENT
DTSTART;VALUE=DATE:20241107
DTEND;VALUE=DATE:20241109
DTSTAMP:20260421T031107
CREATED:20241015T182427Z
LAST-MODIFIED:20241107T002828Z
UID:250807-1730937600-1731110399@lohas.org
SUMMARY:Endowment & Foundation Forum 2024
DESCRIPTION:The 25th Annual Endowment and Foundation Forum will provide a forum for fluid exchange of ideas concerning portfolio planning and investment strategies. Rather than focusing on a particular investment style\, this conference examines a full range of critical investment topics germane to all Endowments and Foundations. The program will also highlight the need to align fiscal strategy with values and missions. Participants and delegates will speak on topics including necessity for non-profit governance for endowments\, means of capturing alpha in a portfolio\, methods of choosing managers\, and problems of ethics and liability in fiduciary planning. \nLearn more conference details at https://opalgroup.net/conference/endowment-foundation-forum-2024/
URL:https://lohas.org/event/endowment-foundation-forum-2024/
LOCATION:Boston\, MA\, Boston\, MA
CATEGORIES:Industry Events
ATTACH;FMTTYPE=image/png:https://lohas.org/wp-content/uploads/2024/10/Endowment-and-Foundation-Forum-2024-Opal-Group.png
END:VEVENT
END:VCALENDAR