BEGIN:VCALENDAR
VERSION:2.0
PRODID:-//LOHAS - ECPv6.15.18//NONSGML v1.0//EN
CALSCALE:GREGORIAN
METHOD:PUBLISH
X-ORIGINAL-URL:https://lohas.org
X-WR-CALDESC:Events for LOHAS
REFRESH-INTERVAL;VALUE=DURATION:PT1H
X-Robots-Tag:noindex
X-PUBLISHED-TTL:PT1H
BEGIN:VTIMEZONE
TZID:America/Chicago
BEGIN:DAYLIGHT
TZOFFSETFROM:-0600
TZOFFSETTO:-0500
TZNAME:CDT
DTSTART:20250309T080000
END:DAYLIGHT
BEGIN:STANDARD
TZOFFSETFROM:-0500
TZOFFSETTO:-0600
TZNAME:CST
DTSTART:20251102T070000
END:STANDARD
BEGIN:DAYLIGHT
TZOFFSETFROM:-0600
TZOFFSETTO:-0500
TZNAME:CDT
DTSTART:20260308T080000
END:DAYLIGHT
BEGIN:STANDARD
TZOFFSETFROM:-0500
TZOFFSETTO:-0600
TZNAME:CST
DTSTART:20261101T070000
END:STANDARD
BEGIN:DAYLIGHT
TZOFFSETFROM:-0600
TZOFFSETTO:-0500
TZNAME:CDT
DTSTART:20270314T080000
END:DAYLIGHT
BEGIN:STANDARD
TZOFFSETFROM:-0500
TZOFFSETTO:-0600
TZNAME:CST
DTSTART:20271107T070000
END:STANDARD
END:VTIMEZONE
BEGIN:VEVENT
DTSTART;VALUE=DATE:20260310
DTEND;VALUE=DATE:20260311
DTSTAMP:20260422T102340
CREATED:20260212T061852Z
LAST-MODIFIED:20260212T061900Z
UID:253651-1773100800-1773187199@lohas.org
SUMMARY:Family Office Winter Forum 2026
DESCRIPTION:The Family Office Winter Forum 2026 returns to the heart of New York City\, the global hub of finance and ambition. \nJoin 500+ leading family offices\, managers\, and investors for a high-energy day of panels\, networking\, and insights from top Wall Street voices. \nFrom family governance to alternatives and impact investing\, and of course\, how to use the rise of A.I. in your investments and business\, discover strategies shaping the future of wealth\, all in that unmistakable New York State of Mind. \nCONFERENCE FORMATThis conference will feature dialogue driven panel discussions led by consultants and family offices\, fireside chats and keynotes by the most influential voices.
URL:https://lohas.org/event/family-office-winter-forum-2026/
LOCATION:New York City\, NY\, New York City\, NY\, 12345
CATEGORIES:Industry Events
ATTACH;FMTTYPE=image/jpeg:https://lohas.org/wp-content/uploads/2026/02/Opal-Winter-Family-Office-Forum.jpg
END:VEVENT
BEGIN:VEVENT
DTSTART;VALUE=DATE:20260312
DTEND;VALUE=DATE:20260319
DTSTAMP:20260422T102340
CREATED:20260212T070438Z
LAST-MODIFIED:20260212T074526Z
UID:253650-1773273600-1773878399@lohas.org
SUMMARY:SXSW 2026
DESCRIPTION:Featuring a variety of tracks that focus on the most important breakthroughs in technology and culture\, SXSW proves that the most unexpected discoveries happen when diverse topics and people come together. \nSXSW celebrates its 40th event with a reimagined experience\, bringing the Conference\, Film & TV Festival\, and Music Festival together for the first time to run concurrently over seven exciting days and nights.
URL:https://lohas.org/event/sxsw-2026/
LOCATION:Austin\, TX\, Austin\, TX
CATEGORIES:Industry Events
ATTACH;FMTTYPE=image/webp:https://lohas.org/wp-content/uploads/2026/02/Austin-SXSW-scaled.webp
END:VEVENT
BEGIN:VEVENT
DTSTART;VALUE=DATE:20260318
DTEND;VALUE=DATE:20260321
DTSTAMP:20260422T102340
CREATED:20260312T073010Z
LAST-MODIFIED:20260312T073022Z
UID:253841-1773792000-1774051199@lohas.org
SUMMARY:2026 Global Philanthropy Leaders Summit
DESCRIPTION:The Global Philanthropy Leaders Summit is an application-based gathering that convenes senior leaders\, decision-makers\, and changemakers from global philanthropy and adjacent sectors. Each year\, more than 250 executives — representing over $480B in charitable assets — come together to exchange ideas\, collaborate across boundaries\, and advance the future of the field. \nThis year’s theme is “Architecting the Future: Operating Systems for a New Era of Philanthropy.”
URL:https://lohas.org/event/2026-global-philanthropy-leaders-summit/
LOCATION:San Francisco\, CA\, San Francisco\, CA
CATEGORIES:Industry Events
END:VEVENT
BEGIN:VEVENT
DTSTART;VALUE=DATE:20260420
DTEND;VALUE=DATE:20260423
DTSTAMP:20260422T102340
CREATED:20260212T005955Z
LAST-MODIFIED:20260212T010530Z
UID:253652-1776643200-1776902399@lohas.org
SUMMARY:EarthX 2026
DESCRIPTION:EarthX is an international nonprofit environmental organization dedicated to educating and inspiring people and organizations to take action towards a more sustainable future worldwide. \nEarthx2026\, their marquee event\, brings together leading voices from across the environmental spectrum—including scientists\, conservationists\, academics\, entrepreneurs\, advocates\, NGOs\, farmers\, corporations\, policymakers\, educators\, students\, and global leaders—to exchange ideas and drive solutions for a sustainable future.
URL:https://lohas.org/event/earthx-2026/
LOCATION:Dallas\, TX\, Dallas\, TX
CATEGORIES:Industry Events
ATTACH;FMTTYPE=image/jpeg:https://lohas.org/wp-content/uploads/2026/02/EarthX-2026.jpg
END:VEVENT
BEGIN:VEVENT
DTSTART;VALUE=DATE:20260427
DTEND;VALUE=DATE:20260430
DTSTAMP:20260422T102340
CREATED:20260204T203254Z
LAST-MODIFIED:20260205T001425Z
UID:253593-1777248000-1777507199@lohas.org
SUMMARY:Mission Investors Exchange 2026 National Conference
DESCRIPTION:The Premier Gathering for Leaders Advancing Impact Investing in Philanthropy\nRegistration is now open for Mission Investors Exchange (MIE) members to attend our 2026 National Conference\, the premier event for foundations\, mission-driven asset owners\, and their partners shaping the future of impact investing in philanthropy. This signature event will be set against the backdrop of the U.S. South in the City of Atlanta from April 27-29. \nOver three days\, participants will experience: \n\nPlenary discussions with leading voices in the field\nInteractive breakout sessions and peer learning opportunities\nImpact in Action site visits highlighting innovation and collaboration in the local community\nCurated experiences designed to deepen learning\, connection\, and shared impact
URL:https://lohas.org/event/mission-investors-exchange-2026-national-conference/
LOCATION:Atlanta\, GA\, Atlanta\, GA
CATEGORIES:Industry Events
ATTACH;FMTTYPE=image/png:https://lohas.org/wp-content/uploads/2026/02/MIE-April-2026.png
END:VEVENT
BEGIN:VEVENT
DTSTART;VALUE=DATE:20260512
DTEND;VALUE=DATE:20260524
DTSTAMP:20260422T102340
CREATED:20260304T224222Z
LAST-MODIFIED:20260304T224254Z
UID:253828-1778544000-1779580799@lohas.org
SUMMARY:2026 Festival de Cannes
DESCRIPTION:
URL:https://lohas.org/event/2026-festival-de-cannes/
LOCATION:Cannes\, France\, Cannes\, France
CATEGORIES:Industry Events
END:VEVENT
BEGIN:VEVENT
DTSTART;VALUE=DATE:20260920
DTEND;VALUE=DATE:20260928
DTSTAMP:20260422T102340
CREATED:20260212T010815Z
LAST-MODIFIED:20260212T055634Z
UID:253659-1789862400-1790553599@lohas.org
SUMMARY:Climate Week NYC 2026
DESCRIPTION:Every year\, Climate Week NYC brings together heads of state\, global business leaders\, philanthropic leaders\, and civil society to accelerate climate action at scale. Stay tuned for more information on Climate Week NYC 2026.
URL:https://lohas.org/event/climate-week-nyc-2026/
LOCATION:New York City\, NY\, New York City\, NY\, 12345
CATEGORIES:Industry Events
ATTACH;FMTTYPE=image/webp:https://lohas.org/wp-content/uploads/2026/02/cw-logo.webp
END:VEVENT
BEGIN:VEVENT
DTSTART;VALUE=DATE:20261012
DTEND;VALUE=DATE:20261015
DTSTAMP:20260422T102340
CREATED:20260212T070934Z
LAST-MODIFIED:20260212T071040Z
UID:253649-1791763200-1792022399@lohas.org
SUMMARY:SOCAP 2026
DESCRIPTION:Don’t miss one of the world’s largest convenings of the impact ecosystem! \nThis annual event brings together a global audience of funders and founders\, plus people from philanthropy\, government\, education\, media\, finance\, science\, faith-based organizations\, NGOs\, creatives\, nonprofits\, community leaders\, and others to drive meaningful impact.
URL:https://lohas.org/event/socap-2026/
LOCATION:Chicago\, IL\, Chicago\, IL
CATEGORIES:Industry Events
ATTACH;FMTTYPE=image/jpeg:https://lohas.org/wp-content/uploads/2026/02/SOCAP26.jpg
END:VEVENT
END:VCALENDAR